BEGIN:VCALENDAR
VERSION:2.0
PRODID:-//AudioTheme 2.3.7
BEGIN:VEVENT
UID:urn:uuid:d68b06fb-4dfe-4df5-a591-49fa387a0c65
URL:https://snydacker.com/schedule/chicago-symphony-orchestra-nino-rota-4/
DTSTART;TZID=GMT:20260328T003000
SUMMARY:Chicago Symphony Orchestra: Nino Rota
DESCRIPTION:Snydacker joins the Chicago Symphony Orchestra under the direction of Riccardo Muti for a performance of music by Nino Rota.
LOCATION:Edman Memorial Chapel at Wheaton College\, 401 E Franklin Ave\, Wheaton\, IL\, United States\, 60187
END:VEVENT
END:VCALENDAR
