BEGIN:VCALENDAR
VERSION:2.0
PRODID:-//AudioTheme 2.3.7
BEGIN:VEVENT
UID:urn:uuid:fca96320-d514-448f-a33f-6d6d53a5d098
URL:https://snydacker.com/schedule/niu-woodwind-chamber-showcase/
DTSTART;TZID=GMT:20260403T223000
SUMMARY:NIU Woodwind Chamber Showcase
DESCRIPTION:Snydacker will perform with clarinetist Zach Good as a part of the NIU Woodwind Chamber Music Showcase.
LOCATION:NIU Recital Hall\, 550 Lucinda Ave\, DeKalb\, IL\, United States\, 60115
END:VEVENT
END:VCALENDAR
