BEGIN:VCALENDAR
VERSION:2.0
PRODID:-//AudioTheme 2.3.7
BEGIN:VEVENT
UID:urn:uuid:7bd34731-2ed1-41d6-95df-4a17d140136b
URL:https://snydacker.com/schedule/we-speak-etruscan-2/
DTSTART;TZID=GMT:20260402T010000
SUMMARY:We Speak Etruscan
DESCRIPTION:Snydacker and clarinetist Zach Good present a recital of clarinet and saxophone music\, featuring Lee Hyla's epic duo\, We Speak Etruscan.
LOCATION:NIU Recital Hall\, 550 Lucinda Ave\, DeKalb\, IL\, United States\, 60115
END:VEVENT
END:VCALENDAR
